BEGIN:VCALENDAR
PRODID:-//MSIAPromos.com//NONSGML v1.0//EN
VERSION:2.0
CALSCALE:GREGORIAN
METHOD:PUBLISH
X-WR-CALNAME:MSIAPromos.com
X-ORIGINAL-URL:https://msiapromos.com
X-WR-CALDESC:Events for MSIAPromos.com
BEGIN:VEVENT
DTSTART:20140328T000000
DTEND:20140410T235900
DTSTAMP:20260423T110429
CREATED:20140327T171029
LAST-MODIFIED:20140327T171116
UID:16026@https://msiapromos.com
SUMMARY:Samsung Galaxy S5 Pre-Order Opens From 28 Mar - 10 Apr 2014
DESCRIPTION:Be the first. Pre-order the Samsung Galaxy S5 from Celcom, Digi and Maxis from 28th March to 10th April 2014.. For more information, visit [ https://msiapromos.com/telecoms/samsung-galaxy-s5-pre-order-opens-from-28-mar-10-apr-2014-16026/ ]. 
LOCATION:
URL:https://msiapromos.com/telecoms/samsung-galaxy-s5-pre-order-opens-from-28-mar-10-apr-2014-16026/
END:VEVENT
END:VCALENDAR