BEGIN:VCALENDAR
PRODID:-//MSIAPromos.com//NONSGML v1.0//EN
VERSION:2.0
CALSCALE:GREGORIAN
METHOD:PUBLISH
X-WR-CALNAME:MSIAPromos.com
X-ORIGINAL-URL:https://msiapromos.com
X-WR-CALDESC:Events for MSIAPromos.com
BEGIN:VEVENT
DTSTART:20140321T000000
DTEND:20140331T235900
DTSTAMP:20260421T044812
CREATED:20140320T150717
LAST-MODIFIED:20140320T150717
UID:15448@https://msiapromos.com
SUMMARY:BBQ King Up To 75% OFF International BBQ Brands Clearance Fair @ Citta Mall 21 - 31 Mar 2014
DESCRIPTION:BBQ King will be having a International BBQ Brands Clearance Fair featuring Babbecook, Electrolux, Outback, Rinnai, Swiss Grill and Somasia. For more information, visit [ https://msiapromos.com/warehouse-sales/bbq-king-up-to-75-off-international-bbq-brands-clearance-fair-citta-mall-21-31-mar-2014-15448/ ]. 
LOCATION:
URL:https://msiapromos.com/warehouse-sales/bbq-king-up-to-75-off-international-bbq-brands-clearance-fair-citta-mall-21-31-mar-2014-15448/
END:VEVENT
END:VCALENDAR