BEGIN:VCALENDAR
PRODID:-//MSIAPromos.com//NONSGML v1.0//EN
VERSION:2.0
CALSCALE:GREGORIAN
METHOD:PUBLISH
X-WR-CALNAME:MSIAPromos.com
X-ORIGINAL-URL:https://msiapromos.com
X-WR-CALDESC:Events for MSIAPromos.com
BEGIN:VEVENT
DTSTART:20140321T000000
DTEND:20140330T235900
DTSTAMP:20260419T210833
CREATED:20140308T122404
LAST-MODIFIED:20140313T102824
UID:14725@https://msiapromos.com
SUMMARY:Big Bad Wolf Books SALE Event @ The Mines 21 - 30 Mar 2014
DESCRIPTION:Big Bad Wolf Books will be having their next SALE event at Malaysia International Exhibition & Convention Centre from 21 March to 30 March 2014. For more information, visit [ https://msiapromos.com/happenings/big-bad-wolf-books-sale-event-the-mines-21-30-mar-2014-14725/ ]. 
LOCATION:
URL:https://msiapromos.com/happenings/big-bad-wolf-books-sale-event-the-mines-21-30-mar-2014-14725/
END:VEVENT
END:VCALENDAR