BEGIN:VCALENDAR
PRODID:-//MSIAPromos.com//NONSGML v1.0//EN
VERSION:2.0
CALSCALE:GREGORIAN
METHOD:PUBLISH
X-WR-CALNAME:MSIAPromos.com
X-ORIGINAL-URL:https://msiapromos.com
X-WR-CALDESC:Events for MSIAPromos.com
BEGIN:VEVENT
DTSTART:20140301T000000
DTEND:20140309T235900
DTSTAMP:20260426T025830
CREATED:20140306T112526
LAST-MODIFIED:20140306T112526
UID:14576@https://msiapromos.com
SUMMARY:Parkson FREE RM10 Voucher With RM150 Spend Promo 1 - 9 Mar 2014
DESCRIPTION:Get a FREE Parkson RM10 Discount Voucher when you make a minimum spend of RM150. For more information, visit [ https://msiapromos.com/department-stores/parkson-free-rm10-voucher-with-rm150-spend-promo-1-9-mar-2014-14576/ ]. 
LOCATION:
URL:https://msiapromos.com/department-stores/parkson-free-rm10-voucher-with-rm150-spend-promo-1-9-mar-2014-14576/
END:VEVENT
END:VCALENDAR