BEGIN:VCALENDAR
PRODID:-//MSIAPromos.com//NONSGML v1.0//EN
VERSION:2.0
CALSCALE:GREGORIAN
METHOD:PUBLISH
X-WR-CALNAME:MSIAPromos.com
X-ORIGINAL-URL:https://msiapromos.com
X-WR-CALDESC:Events for MSIAPromos.com
BEGIN:VEVENT
DTSTART:20140207T000000
DTEND:20140215T235900
DTSTAMP:20260423T105537
CREATED:20140207T143050
LAST-MODIFIED:20140207T143050
UID:13484@https://msiapromos.com
SUMMARY:Qatar Airways USA & Europe From RM2725 Special Fares Promo 7 - 15 Feb 2014
DESCRIPTION:Enjoy some of the lowest fares of the season to the USA and Europe with Qatar Airways latest promotion.. For more information, visit [ https://msiapromos.com/airlines-flights/qatar-airways-usa-europe-from-rm2725-special-fares-promo-7-15-feb-2014-13484/ ]. 
LOCATION:
URL:https://msiapromos.com/airlines-flights/qatar-airways-usa-europe-from-rm2725-special-fares-promo-7-15-feb-2014-13484/
END:VEVENT
END:VCALENDAR