BEGIN:VCALENDAR
PRODID:-//MSIAPromos.com//NONSGML v1.0//EN
VERSION:2.0
CALSCALE:GREGORIAN
METHOD:PUBLISH
X-WR-CALNAME:MSIAPromos.com
X-ORIGINAL-URL:https://msiapromos.com
X-WR-CALDESC:Events for MSIAPromos.com
BEGIN:VEVENT
DTSTART:20131220T000000
DTEND:20131225T235900
DTSTAMP:20260421T025634
CREATED:20131217T170809
LAST-MODIFIED:20131215T001025
UID:11420@https://msiapromos.com
SUMMARY:Isetan Toys Fair @ KLCC 20 - 25 Dec 2013
DESCRIPTION:Isetan will be having a Toys Fair from 20 December to 25 December 2013 at KLCC. For more information, visit [ https://msiapromos.com/kids/isetan-toys-fair-klcc-20-25-dec-2013-11420/ ]. 
LOCATION:
URL:https://msiapromos.com/kids/isetan-toys-fair-klcc-20-25-dec-2013-11420/
END:VEVENT
END:VCALENDAR