BEGIN:VCALENDAR
PRODID:-//MSIAPromos.com//NONSGML v1.0//EN
VERSION:2.0
CALSCALE:GREGORIAN
METHOD:PUBLISH
X-WR-CALNAME:MSIAPromos.com
X-ORIGINAL-URL:https://msiapromos.com
X-WR-CALDESC:Events for MSIAPromos.com
BEGIN:VEVENT
DTSTART:20131206T000000
DTEND:20131208T235900
DTSTAMP:20260421T024359
CREATED:20131205T204751
LAST-MODIFIED:20131205T221751
UID:10630@https://msiapromos.com
SUMMARY:Pikom PC Fair 2013 @ Kuala Lumpur Convention Centre 6 - 8 Dec 2013
DESCRIPTION:Pikom PC Fair 2013 will be having its next KL event from 6 December to 8 December 2013, 11am to 9pm at Kuala Lumpur Convention Centre (KLCC). For more information, visit [ https://msiapromos.com/happenings/pikom-pc-fair-2013-kuala-lumpur-convention-centre-6-8-dec-2013-10630/ ]. 
LOCATION:
URL:https://msiapromos.com/happenings/pikom-pc-fair-2013-kuala-lumpur-convention-centre-6-8-dec-2013-10630/
END:VEVENT
END:VCALENDAR