BEGIN:VCALENDAR
PRODID:-//MSIAPromos.com//NONSGML v1.0//EN
VERSION:2.0
CALSCALE:GREGORIAN
METHOD:PUBLISH
X-WR-CALNAME:MSIAPromos.com
X-ORIGINAL-URL:https://msiapromos.com
X-WR-CALDESC:Events for MSIAPromos.com
BEGIN:VEVENT
DTSTART:20131119T000000
DTEND:20131124T235900
DTSTAMP:20260423T105207
CREATED:20131119T141102
LAST-MODIFIED:20131119T015412
UID:10060@https://msiapromos.com
SUMMARY:Qatar Airways Promotion Air Fares 19 - 24 Nov 2013
DESCRIPTION:Embark on a 5-star experience, just in time for winter. Special fares from 2218 MYR to over 125 destinations, with 3 daily flights from Kuala Lumpur.. For more information, visit [ https://msiapromos.com/airlines-flights/qatar-airways-promotion-air-fares-19-24-nov-2013-10060/ ]. 
LOCATION:
URL:https://msiapromos.com/airlines-flights/qatar-airways-promotion-air-fares-19-24-nov-2013-10060/
END:VEVENT
END:VCALENDAR